BEGIN:VCALENDAR
VERSION:2.0
PRODID:-//ChamberMaster//Event Calendar 2.0//EN
METHOD:PUBLISH
X-PUBLISHED-TTL:P3D
REFRESH-INTERVAL:P3D
CALSCALE:GREGORIAN
BEGIN:VEVENT
DTSTART:20260321T000000Z
DTEND:20260323T013000Z
X-MICROSOFT-CDO-ALLDAYEVENT:FALSE
SUMMARY:Beckman Catholic Musical- Fiddler on the Roof
DESCRIPTION:Mark your calendar for Beckman Catholics Spring Musical - Fiddler on the Roof. March 20- March 22nd in the Beckman Catholic auditorium. Tickets can be purchased online at the link below- any remaining tickets will be available at the door before each performance. \n\nPerformances are as follows\n\nFriday\, March 20th- 7:00 pm\n\nSaturday\, March 21st- 7:00 pm \n\nSunday\, March 22nd 3:00 pm\n\n\n\n \nTickets can be bought online on our Bound page.\n\nhttps://www.gobound.com/ia/schools/beckman/tickets
X-ALT-DESC;FMTTYPE=text/html:Mark your calendar for Beckman Catholics Spring Musical - Fiddler on the Roof. March 20- March 22nd in the Beckman Catholic auditorium. Tickets can be purchased online at the link below- any remaining tickets will be available at the door before each performance.&nbsp\;<br />\nPerformances are as follows<br />\nFriday\, March 20th- 7:00 pm<br />\nSaturday\, March 21st- 7:00 pm&nbsp\;<br />\nSunday\, March 22nd 3:00 pm<br />\n<br />\n&nbsp\;\n<div data-olk-copy-source="MessageBody" style="border: 0px\; font-variant-numeric: inherit\; font-variant-east-asian: inherit\; font-variant-alternates: inherit\; font-variant-position: inherit\; font-variant-emoji: inherit\; font-stretch: inherit\; font-size: large\; line-height: inherit\; font-family: tahoma\, sans-serif\; font-optical-sizing: inherit\; font-size-adjust: inherit\; font-kerning: inherit\; font-feature-settings: inherit\; font-variation-settings: inherit\; font-language-override: inherit\; margin: 0px\; padding: 0px\; vertical-align: baseline\; color: rgb(36\, 36\, 36)\;">Tickets can be bought online on our Bound page.</div>\n\n<div style="border: 0px\; font-variant-numeric: inherit\; font-variant-east-asian: inherit\; font-variant-alternates: inherit\; font-variant-position: inherit\; font-variant-emoji: inherit\; font-stretch: inherit\; font-size: large\; line-height: inherit\; font-family: tahoma\, sans-serif\; font-optical-sizing: inherit\; font-size-adjust: inherit\; font-kerning: inherit\; font-feature-settings: inherit\; font-variation-settings: inherit\; font-language-override: inherit\; margin: 0px\; padding: 0px\; vertical-align: baseline\; color: rgb(36\, 36\, 36)\;"><a data-auth="NotApplicable" data-linkindex="0" href="https://www.gobound.com/ia/schools/beckman/tickets" rel="noopener noreferrer" style="border: 0px\; font: inherit\; margin: 0px\; padding: 0px\; vertical-align: baseline\;" target="_blank" title="https://www.gobound.com/ia/schools/beckman/tickets">https://www.gobound.com/ia/schools/beckman/tickets</a></div>\n
LOCATION:Beckman Catholic High School
UID:e.2958.2017
SEQUENCE:3
DTSTAMP:20260425T171257Z
URL:http://dyersville.chambermaster.com/events/details/spring-musical-2017
END:VEVENT

END:VCALENDAR
